Package: mitoClone2 Version: 1.17.0 Command: /home/biocbuild/bbs-3.23-bioc/R/bin/R CMD build --keep-empty-dirs --no-resave-data mitoClone2 StartedAt: 2025-11-19 18:46:11 -0500 (Wed, 19 Nov 2025) EndedAt: 2025-11-19 18:50:52 -0500 (Wed, 19 Nov 2025) EllapsedTime: 281.3 seconds RetCode: 0 Status: OK PackageFile: mitoClone2_1.17.0.tar.gz PackageFileSize: 1.447 MiB