Package: mitch Version: 1.23.0 Command: /home/biocbuild/bbs-3.23-bioc/R/bin/R CMD INSTALL mitch StartedAt: 2025-10-31 15:18:06 -0400 (Fri, 31 Oct 2025) EndedAt: 2025-10-31 15:18:24 -0400 (Fri, 31 Oct 2025) EllapsedTime: 17.4 seconds RetCode: 0 Status: OK