Package: mitch Version: 1.23.0 Command: /home/biocbuild/bbs-3.23-bioc/R/bin/R CMD build --keep-empty-dirs --no-resave-data mitch StartedAt: 2025-11-02 18:39:13 -0500 (Sun, 02 Nov 2025) EndedAt: 2025-11-02 18:44:41 -0500 (Sun, 02 Nov 2025) EllapsedTime: 328.3 seconds RetCode: 0 Status: OK PackageFile: mitch_1.23.0.tar.gz PackageFileSize: 1.1 MiB