Package: mitch Version: 1.21.3 Command: /Library/Frameworks/R.framework/Resources/bin/R CMD INSTALL mitch StartedAt: 2025-10-06 15:11:28 -0400 (Mon, 06 Oct 2025) EndedAt: 2025-10-06 15:12:10 -0400 (Mon, 06 Oct 2025) EllapsedTime: 41.5 seconds RetCode: 0 Status: OK