Package: mitch Version: 1.21.3 Command: rm -rf mitch.buildbin-libdir && mkdir mitch.buildbin-libdir && /Users/biocbuild/BBS/utils/build-universal.sh mitch_1.21.3.tar.gz /Library/Frameworks/R.framework/Resources/bin/R mitch.buildbin-libdir StartedAt: 2025-10-06 02:11:12 -0400 (Mon, 06 Oct 2025) EndedAt: 2025-10-06 02:11:25 -0400 (Mon, 06 Oct 2025) EllapsedTime: 13.9 seconds RetCode: 0 Status: OK PackageFile: mitch_1.21.3.tgz PackageFileSize: 1.267 MiB