Package: mistyR Version: 1.19.0 Command: /home/biocbuild/bbs-3.23-bioc/R/bin/R CMD build --keep-empty-dirs --no-resave-data mistyR StartedAt: 2025-11-20 18:43:03 -0500 (Thu, 20 Nov 2025) EndedAt: 2025-11-20 18:45:06 -0500 (Thu, 20 Nov 2025) EllapsedTime: 123.1 seconds RetCode: 0 Status: OK PackageFile: mistyR_1.19.0.tar.gz PackageFileSize: 2.974 MiB