Package: mistyR Version: 1.17.0 Command: /Library/Frameworks/R.framework/Resources/bin/R CMD INSTALL mistyR StartedAt: 2025-10-07 15:05:48 -0400 (Tue, 07 Oct 2025) EndedAt: 2025-10-07 15:05:53 -0400 (Tue, 07 Oct 2025) EllapsedTime: 4.6 seconds RetCode: 0 Status: OK