Package: mistyR Version: 1.17.0 Command: /Library/Frameworks/R.framework/Resources/bin/R CMD build --keep-empty-dirs --no-resave-data mistyR StartedAt: 2025-10-06 17:03:33 -0400 (Mon, 06 Oct 2025) EndedAt: 2025-10-06 17:04:35 -0400 (Mon, 06 Oct 2025) EllapsedTime: 62.7 seconds RetCode: 0 Status: OK PackageFile: mistyR_1.17.0.tar.gz PackageFileSize: 3.087 MiB