Package: mist Version: 1.3.0 Command: /home/biocbuild/bbs-3.23-bioc/R/bin/R CMD INSTALL mist StartedAt: 2025-11-20 15:32:50 -0500 (Thu, 20 Nov 2025) EndedAt: 2025-11-20 15:33:22 -0500 (Thu, 20 Nov 2025) EllapsedTime: 31.4 seconds RetCode: 0 Status: OK