Package: mist Version: 1.3.0 Command: /home/biocbuild/bbs-3.23-bioc/R/bin/R CMD build --keep-empty-dirs --no-resave-data mist StartedAt: 2025-11-20 18:43:03 -0500 (Thu, 20 Nov 2025) EndedAt: 2025-11-20 18:44:43 -0500 (Thu, 20 Nov 2025) EllapsedTime: 100.1 seconds RetCode: 0 Status: OK PackageFile: mist_1.3.0.tar.gz PackageFileSize: 508.6 KiB