Package: mist Version: 1.1.0 Command: /Library/Frameworks/R.framework/Resources/bin/R CMD build --keep-empty-dirs --no-resave-data mist StartedAt: 2025-10-16 17:15:59 -0400 (Thu, 16 Oct 2025) EndedAt: 2025-10-16 17:16:38 -0400 (Thu, 16 Oct 2025) EllapsedTime: 39.4 seconds RetCode: 0 Status: OK PackageFile: mist_1.1.0.tar.gz PackageFileSize: 511.1 KiB