Package: mist Version: 1.1.0 Command: rm -rf mist.buildbin-libdir && mkdir mist.buildbin-libdir && /Users/biocbuild/BBS/utils/build-universal.sh mist_1.1.0.tar.gz /Library/Frameworks/R.framework/Resources/bin/R mist.buildbin-libdir StartedAt: 2025-10-16 23:08:36 -0400 (Thu, 16 Oct 2025) EndedAt: 2025-10-16 23:08:50 -0400 (Thu, 16 Oct 2025) EllapsedTime: 14.3 seconds RetCode: 0 Status: OK PackageFile: mist_1.1.0.tgz PackageFileSize: 554.8 KiB