Package: missRows Version: 1.29.0 Command: /home/biocbuild/bbs-3.22-bioc/R/bin/R CMD build --keep-empty-dirs --no-resave-data --md5 missRows StartedAt: 2025-09-30 18:41:23 -0400 (Tue, 30 Sep 2025) EndedAt: 2025-09-30 18:42:56 -0400 (Tue, 30 Sep 2025) EllapsedTime: 93.0 seconds RetCode: 0 Status: OK PackageFile: missRows_1.29.0.tar.gz PackageFileSize: 610.3 KiB