Package: missRows Version: 1.31.0 Command: /Library/Frameworks/R.framework/Resources/bin/R CMD INSTALL missRows StartedAt: 2025-11-25 15:13:48 -0500 (Tue, 25 Nov 2025) EndedAt: 2025-11-25 15:13:59 -0500 (Tue, 25 Nov 2025) EllapsedTime: 11.3 seconds RetCode: 0 Status: OK