Package: missRows Version: 1.31.0 Command: /Library/Frameworks/R.framework/Resources/bin/R CMD build --keep-empty-dirs --no-resave-data missRows StartedAt: 2025-11-25 16:59:20 -0500 (Tue, 25 Nov 2025) EndedAt: 2025-11-25 17:00:02 -0500 (Tue, 25 Nov 2025) EllapsedTime: 42.4 seconds RetCode: 0 Status: OK PackageFile: missRows_1.31.0.tar.gz PackageFileSize: 608.7 KiB