Package: missMethyl Version: 1.43.1 Command: /home/biocbuild/bbs-3.22-bioc/R/bin/R CMD INSTALL missMethyl StartedAt: 2025-10-09 16:04:17 -0400 (Thu, 09 Oct 2025) EndedAt: 2025-10-09 16:09:13 -0400 (Thu, 09 Oct 2025) EllapsedTime: 296.2 seconds RetCode: 0 Status: OK