Package: missMethyl Version: 1.43.1 Command: /home/biocbuild/bbs-3.22-bioc/R/bin/R CMD build --keep-empty-dirs --no-resave-data --md5 missMethyl StartedAt: 2025-10-09 18:46:45 -0400 (Thu, 09 Oct 2025) EndedAt: 2025-10-09 19:00:20 -0400 (Thu, 09 Oct 2025) EllapsedTime: 814.8 seconds RetCode: 1 Status: ERROR PackageFile: None PackageFileSize: NA