Package: mirTarRnaSeq Version: 1.17.0 Command: /home/biocbuild/bbs-3.22-bioc/R/bin/R CMD check --install=check:mirTarRnaSeq.install-out.txt --library=/home/biocbuild/bbs-3.22-bioc/R/site-library --timings mirTarRnaSeq_1.17.0.tar.gz StartedAt: 2025-10-25 01:38:10 -0400 (Sat, 25 Oct 2025) EndedAt: 2025-10-25 01:41:49 -0400 (Sat, 25 Oct 2025) EllapsedTime: 218.2 seconds RetCode: 0 Status: OK CheckDir: mirTarRnaSeq.Rcheck Warnings: 0