Package: mirTarRnaSeq Version: 1.17.0 Command: /Library/Frameworks/R.framework/Resources/bin/R CMD build --keep-empty-dirs --no-resave-data mirTarRnaSeq StartedAt: 2025-09-30 17:47:52 -0400 (Tue, 30 Sep 2025) EndedAt: 2025-09-30 17:51:39 -0400 (Tue, 30 Sep 2025) EllapsedTime: 227.5 seconds RetCode: 0 Status: OK PackageFile: mirTarRnaSeq_1.17.0.tar.gz PackageFileSize: 3.427 MiB