Package: mirTarRnaSeq Version: 1.17.0 Command: rm -rf mirTarRnaSeq.buildbin-libdir && mkdir mirTarRnaSeq.buildbin-libdir && /Users/biocbuild/BBS/utils/build-universal.sh mirTarRnaSeq_1.17.0.tar.gz /Library/Frameworks/R.framework/Resources/bin/R mirTarRnaSeq.buildbin-libdir StartedAt: 2025-10-02 02:00:49 -0400 (Thu, 02 Oct 2025) EndedAt: 2025-10-02 02:01:08 -0400 (Thu, 02 Oct 2025) EllapsedTime: 18.5 seconds RetCode: 0 Status: OK PackageFile: mirTarRnaSeq_1.17.0.tgz PackageFileSize: 4.263 MiB