Package: mirIntegrator Version: 1.41.0 Command: /home/biocbuild/bbs-3.23-bioc/R/bin/R CMD INSTALL mirIntegrator StartedAt: 2025-11-20 15:26:53 -0500 (Thu, 20 Nov 2025) EndedAt: 2025-11-20 15:27:10 -0500 (Thu, 20 Nov 2025) EllapsedTime: 17.5 seconds RetCode: 0 Status: OK