Package: mirIntegrator Version: 1.39.0 Command: /Library/Frameworks/R.framework/Resources/bin/R CMD INSTALL mirIntegrator StartedAt: 2025-10-10 15:32:32 -0400 (Fri, 10 Oct 2025) EndedAt: 2025-10-10 15:32:57 -0400 (Fri, 10 Oct 2025) EllapsedTime: 24.3 seconds RetCode: 0 Status: OK