Package: mirIntegrator Version: 1.39.0 Command: /Library/Frameworks/R.framework/Resources/bin/R CMD build --keep-empty-dirs --no-resave-data mirIntegrator StartedAt: 2025-10-10 18:03:06 -0400 (Fri, 10 Oct 2025) EndedAt: 2025-10-10 18:04:42 -0400 (Fri, 10 Oct 2025) EllapsedTime: 95.9 seconds RetCode: 0 Status: OK PackageFile: mirIntegrator_1.39.0.tar.gz PackageFileSize: 1.807 MiB