Package: minfi Version: 1.57.0 Command: /home/biocbuild/bbs-3.23-bioc/R/bin/R CMD INSTALL minfi StartedAt: 2025-11-07 15:41:29 -0500 (Fri, 07 Nov 2025) EndedAt: 2025-11-07 15:42:20 -0500 (Fri, 07 Nov 2025) EllapsedTime: 50.3 seconds RetCode: 0 Status: OK