Package: minfi Version: 1.55.1 Command: /Library/Frameworks/R.framework/Resources/bin/R CMD INSTALL minfi StartedAt: 2025-10-24 15:44:17 -0400 (Fri, 24 Oct 2025) EndedAt: 2025-10-24 15:45:26 -0400 (Fri, 24 Oct 2025) EllapsedTime: 69.0 seconds RetCode: 0 Status: OK