Package: minfi Version: 1.55.1 Command: /Library/Frameworks/R.framework/Resources/bin/R CMD INSTALL minfi StartedAt: 2025-10-12 15:21:30 -0400 (Sun, 12 Oct 2025) EndedAt: 2025-10-12 15:21:50 -0400 (Sun, 12 Oct 2025) EllapsedTime: 20.0 seconds RetCode: 0 Status: OK