Package: minfi Version: 1.55.1 Command: /Library/Frameworks/R.framework/Resources/bin/R CMD build --keep-empty-dirs --no-resave-data minfi StartedAt: 2025-10-12 16:59:10 -0400 (Sun, 12 Oct 2025) EndedAt: 2025-10-12 16:59:58 -0400 (Sun, 12 Oct 2025) EllapsedTime: 48.5 seconds RetCode: 0 Status: OK PackageFile: minfi_1.55.1.tar.gz PackageFileSize: 505.5 KiB