Package: minfi Version: 1.55.1 Command: rm -rf minfi.buildbin-libdir && mkdir minfi.buildbin-libdir && /Users/biocbuild/BBS/utils/build-universal.sh minfi_1.55.1.tar.gz /Library/Frameworks/R.framework/Resources/bin/R minfi.buildbin-libdir StartedAt: 2025-10-12 22:44:08 -0400 (Sun, 12 Oct 2025) EndedAt: 2025-10-12 22:44:29 -0400 (Sun, 12 Oct 2025) EllapsedTime: 21.4 seconds RetCode: 0 Status: OK PackageFile: minfi_1.55.1.tgz PackageFileSize: 1.541 MiB