Package: minet Version: 3.67.0 Command: /home/biocbuild/bbs-3.22-bioc/R/bin/R CMD check --install=check:minet.install-out.txt --library=/home/biocbuild/bbs-3.22-bioc/R/site-library --timings minet_3.67.0.tar.gz StartedAt: 2025-10-16 02:19:30 -0400 (Thu, 16 Oct 2025) EndedAt: 2025-10-16 02:19:45 -0400 (Thu, 16 Oct 2025) EllapsedTime: 15.0 seconds RetCode: 0 Status: OK CheckDir: minet.Rcheck Warnings: 0