Package: minet Version: 3.69.0 Command: /home/biocbuild/bbs-3.23-bioc/R/bin/R CMD INSTALL minet StartedAt: 2025-10-31 15:19:27 -0400 (Fri, 31 Oct 2025) EndedAt: 2025-10-31 15:19:39 -0400 (Fri, 31 Oct 2025) EllapsedTime: 12.3 seconds RetCode: 0 Status: OK