Package: mina Version: 1.19.0 Command: /home/biocbuild/bbs-3.23-bioc/R/bin/R CMD INSTALL mina StartedAt: 2025-10-31 15:19:37 -0400 (Fri, 31 Oct 2025) EndedAt: 2025-10-31 15:20:06 -0400 (Fri, 31 Oct 2025) EllapsedTime: 28.9 seconds RetCode: 0 Status: OK