Package: mina Version: 1.19.0 Command: /home/biocbuild/bbs-3.23-bioc/R/bin/R CMD build --keep-empty-dirs --no-resave-data mina StartedAt: 2025-11-02 18:36:36 -0500 (Sun, 02 Nov 2025) EndedAt: 2025-11-02 18:38:40 -0500 (Sun, 02 Nov 2025) EllapsedTime: 123.1 seconds RetCode: 0 Status: OK PackageFile: mina_1.19.0.tar.gz PackageFileSize: 4.018 MiB