Package: mina Version: 1.17.0 Command: /Library/Frameworks/R.framework/Resources/bin/R CMD INSTALL mina StartedAt: 2025-10-09 15:13:18 -0400 (Thu, 09 Oct 2025) EndedAt: 2025-10-09 15:13:48 -0400 (Thu, 09 Oct 2025) EllapsedTime: 29.4 seconds RetCode: 0 Status: OK