Package: mina Version: 1.17.0 Command: /Library/Frameworks/R.framework/Resources/bin/R CMD build --keep-empty-dirs --no-resave-data mina StartedAt: 2025-10-09 17:55:36 -0400 (Thu, 09 Oct 2025) EndedAt: 2025-10-09 17:58:26 -0400 (Thu, 09 Oct 2025) EllapsedTime: 170.3 seconds RetCode: 0 Status: OK PackageFile: mina_1.17.0.tar.gz PackageFileSize: 4.018 MiB