Package: mimager Version: 1.35.0 Command: /home/biocbuild/bbs-3.23-bioc/R/bin/R CMD INSTALL mimager StartedAt: 2025-11-04 15:20:06 -0500 (Tue, 04 Nov 2025) EndedAt: 2025-11-04 15:20:34 -0500 (Tue, 04 Nov 2025) EllapsedTime: 28.0 seconds RetCode: 0 Status: OK