Package: mimager Version: 1.35.0 Command: /home/biocbuild/bbs-3.23-bioc/R/bin/R CMD build --keep-empty-dirs --no-resave-data mimager StartedAt: 2025-11-04 18:34:48 -0500 (Tue, 04 Nov 2025) EndedAt: 2025-11-04 18:35:44 -0500 (Tue, 04 Nov 2025) EllapsedTime: 56.0 seconds RetCode: 0 Status: OK PackageFile: mimager_1.35.0.tar.gz PackageFileSize: 658.7 KiB