Package: mimager Version: 1.33.0 Command: /Library/Frameworks/R.framework/Resources/bin/R CMD INSTALL mimager StartedAt: 2025-10-06 15:21:21 -0400 (Mon, 06 Oct 2025) EndedAt: 2025-10-06 15:21:57 -0400 (Mon, 06 Oct 2025) EllapsedTime: 36.0 seconds RetCode: 0 Status: OK