Package: mimager Version: 1.33.0 Command: /Library/Frameworks/R.framework/Resources/bin/R CMD build --keep-empty-dirs --no-resave-data mimager StartedAt: 2025-10-06 17:52:50 -0400 (Mon, 06 Oct 2025) EndedAt: 2025-10-06 17:54:07 -0400 (Mon, 06 Oct 2025) EllapsedTime: 77.0 seconds RetCode: 0 Status: OK PackageFile: mimager_1.33.0.tar.gz PackageFileSize: 965.3 KiB