Package: mimager Version: 1.33.0 Command: rm -rf mimager.buildbin-libdir && mkdir mimager.buildbin-libdir && /Users/biocbuild/BBS/utils/build-universal.sh mimager_1.33.0.tar.gz /Library/Frameworks/R.framework/Resources/bin/R mimager.buildbin-libdir StartedAt: 2025-10-07 02:20:11 -0400 (Tue, 07 Oct 2025) EndedAt: 2025-10-07 02:20:51 -0400 (Tue, 07 Oct 2025) EllapsedTime: 40.4 seconds RetCode: 0 Status: OK PackageFile: mimager_1.33.0.tgz PackageFileSize: 1015 KiB