Package: miloR Version: 2.5.2 Command: /home/biocbuild/R/R/bin/R CMD INSTALL miloR StartedAt: 2025-10-20 21:20:07 -0000 (Mon, 20 Oct 2025) EndedAt: 2025-10-20 21:23:36 -0000 (Mon, 20 Oct 2025) EllapsedTime: 208.3 seconds RetCode: 0 Status: OK