Package: miloR Version: 2.5.2 Command: /home/biocbuild/R/R/bin/R CMD build --keep-empty-dirs --no-resave-data miloR StartedAt: 2025-10-21 01:15:10 -0000 (Tue, 21 Oct 2025) EndedAt: 2025-10-21 01:37:53 -0000 (Tue, 21 Oct 2025) EllapsedTime: 1362.6 seconds RetCode: 0 Status: OK PackageFile: miloR_2.5.2.tar.gz PackageFileSize: 6.097 MiB