Package: miloR Version: 2.7.0 Command: /home/biocbuild/bbs-3.23-bioc/R/bin/R CMD build --keep-empty-dirs --no-resave-data miloR StartedAt: 2025-11-06 18:34:52 -0500 (Thu, 06 Nov 2025) EndedAt: 2025-11-06 18:50:36 -0500 (Thu, 06 Nov 2025) EllapsedTime: 944.9 seconds RetCode: 0 Status: OK PackageFile: miloR_2.7.0.tar.gz PackageFileSize: 7.168 MiB