Package: miloR Version: 2.5.2 Command: /Library/Frameworks/R.framework/Resources/bin/R CMD INSTALL miloR StartedAt: 2025-10-08 15:51:37 -0400 (Wed, 08 Oct 2025) EndedAt: 2025-10-08 15:54:06 -0400 (Wed, 08 Oct 2025) EllapsedTime: 148.7 seconds RetCode: 0 Status: OK