Package: miloR Version: 2.5.2 Command: /Library/Frameworks/R.framework/Resources/bin/R CMD build --keep-empty-dirs --no-resave-data miloR StartedAt: 2025-10-08 18:01:23 -0400 (Wed, 08 Oct 2025) EndedAt: 2025-10-08 18:25:04 -0400 (Wed, 08 Oct 2025) EllapsedTime: 1420.7 seconds RetCode: 0 Status: OK PackageFile: miloR_2.5.2.tar.gz PackageFileSize: 7.639 MiB