Package: miloR Version: 2.5.2 Command: /Library/Frameworks/R.framework/Resources/bin/R CMD INSTALL miloR StartedAt: 2025-10-14 15:28:58 -0400 (Tue, 14 Oct 2025) EndedAt: 2025-10-14 15:29:36 -0400 (Tue, 14 Oct 2025) EllapsedTime: 38.3 seconds RetCode: 0 Status: OK