Package: miloR Version: 2.5.2 Command: /Library/Frameworks/R.framework/Resources/bin/R CMD build --keep-empty-dirs --no-resave-data miloR StartedAt: 2025-10-14 17:01:10 -0400 (Tue, 14 Oct 2025) EndedAt: 2025-10-14 17:07:48 -0400 (Tue, 14 Oct 2025) EllapsedTime: 398.1 seconds RetCode: 0 Status: OK PackageFile: miloR_2.5.2.tar.gz PackageFileSize: 7.658 MiB