Package: miloR Version: 2.5.2 Command: rm -rf miloR.buildbin-libdir && mkdir miloR.buildbin-libdir && /Users/biocbuild/BBS/utils/build-universal.sh miloR_2.5.2.tar.gz /Library/Frameworks/R.framework/Resources/bin/R miloR.buildbin-libdir StartedAt: 2025-10-14 23:28:49 -0400 (Tue, 14 Oct 2025) EndedAt: 2025-10-14 23:29:30 -0400 (Tue, 14 Oct 2025) EllapsedTime: 40.9 seconds RetCode: 0 Status: OK PackageFile: miloR_2.5.2.tgz PackageFileSize: 7.279 MiB