Package: midasHLA Version: 1.17.0 Command: /home/biocbuild/R/R/bin/R CMD build --keep-empty-dirs --no-resave-data midasHLA StartedAt: 2025-10-21 01:15:06 -0000 (Tue, 21 Oct 2025) EndedAt: 2025-10-21 01:17:59 -0000 (Tue, 21 Oct 2025) EllapsedTime: 173.1 seconds RetCode: 0 Status: OK PackageFile: midasHLA_1.17.0.tar.gz PackageFileSize: 1.866 MiB