Package: midasHLA Version: 1.17.0 Command: /home/biocbuild/bbs-3.22-bioc/R/bin/R CMD check --install=check:midasHLA.install-out.txt --library=/home/biocbuild/bbs-3.22-bioc/R/site-library --timings midasHLA_1.17.0.tar.gz StartedAt: 2025-10-21 01:50:47 -0400 (Tue, 21 Oct 2025) EndedAt: 2025-10-21 01:57:30 -0400 (Tue, 21 Oct 2025) EllapsedTime: 403.3 seconds RetCode: 0 Status: WARNINGS CheckDir: midasHLA.Rcheck Warnings: 1