Package: midasHLA Version: 1.19.0 Command: /home/biocbuild/bbs-3.23-bioc/R/bin/R CMD INSTALL midasHLA StartedAt: 2025-11-05 15:29:10 -0500 (Wed, 05 Nov 2025) EndedAt: 2025-11-05 15:29:41 -0500 (Wed, 05 Nov 2025) EllapsedTime: 31.2 seconds RetCode: 0 Status: OK